BEGIN:VCALENDAR
VERSION:2.0
PRODID:-//Asier Polo - ECPv5.8.1//NONSGML v1.0//EN
CALSCALE:GREGORIAN
METHOD:PUBLISH
X-WR-CALNAME:Asier Polo
X-ORIGINAL-URL:https://www.asierpolo.com/en/
X-WR-CALDESC:Events for Asier Polo
BEGIN:VTIMEZONE
TZID:Europe/Madrid
BEGIN:DAYLIGHT
TZOFFSETFROM:+0100
TZOFFSETTO:+0200
TZNAME:CEST
DTSTART:20220327T010000
END:DAYLIGHT
BEGIN:STANDARD
TZOFFSETFROM:+0200
TZOFFSETTO:+0100
TZNAME:CET
DTSTART:20221030T010000
END:STANDARD
END:VTIMEZONE
BEGIN:VEVENT
DTSTART;TZID=Europe/Madrid:20220922T200000
DTEND;TZID=Europe/Madrid:20220922T200000
DTSTAMP:20260425T211935
CREATED:20220906T114801Z
LAST-MODIFIED:20220906T115232Z
UID:3763-1663876800-1663876800@www.asierpolo.com
SUMMARY:Recital. Bach Suites
DESCRIPTION:VIII Antonio de Cabezón Music Festival \n  \nJ. S. Bach: Cello Suites no.1 (BWV 1007)\, no.3 (BWV 1009) and no.5 (BWV 1011) \n  \nAsier Polo\, cello \n  \nMore info & tickets
URL:https://www.asierpolo.com/en/evento/recital-suites-de-bach-8/
LOCATION:Capilla de Música de las Bernardas\, Convento de las Bernardas. Plaza de San Juan\, 2\, Burgos\, 09004\, España
ATTACH;FMTTYPE=image/jpeg:https://www.asierpolo.com/wp-content/uploads/2021/01/Asier0156©NoahShaye.jpg
END:VEVENT
END:VCALENDAR