BEGIN:VCALENDAR
VERSION:2.0
PRODID:-//Asier Polo - ECPv5.8.1//NONSGML v1.0//EN
CALSCALE:GREGORIAN
METHOD:PUBLISH
X-WR-CALNAME:Asier Polo
X-ORIGINAL-URL:https://www.asierpolo.com/en/
X-WR-CALDESC:Events for Asier Polo
BEGIN:VTIMEZONE
TZID:Europe/Madrid
BEGIN:DAYLIGHT
TZOFFSETFROM:+0100
TZOFFSETTO:+0200
TZNAME:CEST
DTSTART:20190331T010000
END:DAYLIGHT
BEGIN:STANDARD
TZOFFSETFROM:+0200
TZOFFSETTO:+0100
TZNAME:CET
DTSTART:20191027T010000
END:STANDARD
END:VTIMEZONE
BEGIN:VEVENT
DTSTART;TZID=Europe/Madrid:20190617T200000
DTEND;TZID=Europe/Madrid:20190617T200000
DTSTAMP:20260420T054838
CREATED:20180919T192159Z
LAST-MODIFIED:20190611T203236Z
UID:2522-1560801600-1560801600@www.asierpolo.com
SUMMARY:Recital: Bach's Suites
DESCRIPTION:J. S. Bach: Cello Suites no. 1\, 3 & 6 (BWV 1007\, 1009\, 1012) \nMore info and tickets
URL:https://www.asierpolo.com/en/evento/recital-suites-de-bach-3/
LOCATION:Auditorio de Zaragoza\, C/ Eduardo Ibarra\, 3\, Zaragoza\, 50009\, España
ATTACH;FMTTYPE=image/jpeg:https://www.asierpolo.com/wp-content/uploads/2018/09/auditorio-zaragoza-interior-560x381.jpg
END:VEVENT
END:VCALENDAR