BEGIN:VCALENDAR
VERSION:2.0
PRODID:-//Asier Polo - ECPv5.8.1//NONSGML v1.0//EN
CALSCALE:GREGORIAN
METHOD:PUBLISH
X-WR-CALNAME:Asier Polo
X-ORIGINAL-URL:https://www.asierpolo.com/en/
X-WR-CALDESC:Events for Asier Polo
BEGIN:VTIMEZONE
TZID:Europe/Madrid
BEGIN:DAYLIGHT
TZOFFSETFROM:+0100
TZOFFSETTO:+0200
TZNAME:CEST
DTSTART:20190331T010000
END:DAYLIGHT
BEGIN:STANDARD
TZOFFSETFROM:+0200
TZOFFSETTO:+0100
TZNAME:CET
DTSTART:20191027T010000
END:STANDARD
END:VTIMEZONE
BEGIN:VEVENT
DTSTART;TZID=Europe/Madrid:20190401T200000
DTEND;TZID=Europe/Madrid:20190401T200000
DTSTAMP:20260424T110845
CREATED:20180919T175259Z
LAST-MODIFIED:20190305T180156Z
UID:2486-1554148800-1554148800@www.asierpolo.com
SUMMARY:Recital: Asier Polo\, cello & Eldar Nebolsin\, piano
DESCRIPTION:J. S. Bach: Sonata in G minor BWV 1029 \nD. Shostakovich: Sonata in D minor op. 40 \nJ. Brahms: 2 Lieder\, op. 43 – 1 & 2 \nJ. Brahms: Sonata in E minor op. 38 \n  \nAsier Polo\, violoncello \nEldar Nebolsin\, piano \nMore info and tickets
URL:https://www.asierpolo.com/en/evento/recital-sonatas-de-brahms/
LOCATION:Centro Botín\, Muelle de Albareda s/n\, Jardines de Pereda\, Santander\, 39004\, España
ATTACH;FMTTYPE=image/jpeg:https://www.asierpolo.com/wp-content/uploads/2018/09/asierpoloeldarnebolsin.jpg
END:VEVENT
END:VCALENDAR