BEGIN:VCALENDAR
VERSION:2.0
PRODID:-//Asier Polo - ECPv5.8.1//NONSGML v1.0//EN
CALSCALE:GREGORIAN
METHOD:PUBLISH
X-WR-CALNAME:Asier Polo
X-ORIGINAL-URL:https://www.asierpolo.com/en/
X-WR-CALDESC:Events for Asier Polo
BEGIN:VTIMEZONE
TZID:Europe/Madrid
BEGIN:DAYLIGHT
TZOFFSETFROM:+0100
TZOFFSETTO:+0200
TZNAME:CEST
DTSTART:20180325T010000
END:DAYLIGHT
BEGIN:STANDARD
TZOFFSETFROM:+0200
TZOFFSETTO:+0100
TZNAME:CET
DTSTART:20181028T010000
END:STANDARD
END:VTIMEZONE
BEGIN:VEVENT
DTSTART;TZID=Europe/Madrid:20180721T200000
DTEND;TZID=Europe/Madrid:20180721T200000
DTSTAMP:20260423T100215
CREATED:20180513T220256Z
LAST-MODIFIED:20180713T110857Z
UID:2224-1532203200-1532203200@www.asierpolo.com
SUMMARY:Recital: Schubertíada in Valdegovía
DESCRIPTION:J.S. Bach: Cello Suites no. 1\, 3 & 6 (BWV 1007\, 1009\, 1012) \n  \nMore info
URL:https://www.asierpolo.com/en/evento/recital-schubertiada-en-valdegovia/
LOCATION:Iglesia de Bachicabo\, Calle Monasterio\, 10\, Bachicabo\, Álava\, 01423\, España
ATTACH;FMTTYPE=image/jpeg:https://www.asierpolo.com/wp-content/uploads/2016/03/la-foto-1.jpg
END:VEVENT
END:VCALENDAR