BEGIN:VCALENDAR
VERSION:2.0
PRODID:-//Asier Polo - ECPv5.8.1//NONSGML v1.0//EN
CALSCALE:GREGORIAN
METHOD:PUBLISH
X-WR-CALNAME:Asier Polo
X-ORIGINAL-URL:https://www.asierpolo.com/en/
X-WR-CALDESC:Events for Asier Polo
BEGIN:VTIMEZONE
TZID:Europe/Madrid
BEGIN:DAYLIGHT
TZOFFSETFROM:+0100
TZOFFSETTO:+0200
TZNAME:CEST
DTSTART:20190331T010000
END:DAYLIGHT
BEGIN:STANDARD
TZOFFSETFROM:+0200
TZOFFSETTO:+0100
TZNAME:CET
DTSTART:20191027T010000
END:STANDARD
END:VTIMEZONE
BEGIN:VEVENT
DTSTART;TZID=Europe/Madrid:20190314T203000
DTEND;TZID=Europe/Madrid:20190314T203000
DTSTAMP:20260420T060926
CREATED:20181221T094336Z
LAST-MODIFIED:20181221T095046Z
UID:2579-1552595400-1552595400@www.asierpolo.com
SUMMARY:Orquestra Filarmônica de Minas Gerais
DESCRIPTION:A. Dvořák: Cello Concerto in B minor\, op. 104 \n  \nAsier Polo\, violoncello \nFabio Mechetti\, conductor \nOrquestra Filarmônica de Minas Gerais \nMore info and tickets
URL:https://www.asierpolo.com/en/evento/orquestra-filarmonica-de-minas-gerais-2/
LOCATION:Sala Minas Gerais\, Rua Tenente Brito Melo\, 1090\, Belo Horizonte\, Minas Gerais\, Brasil
ATTACH;FMTTYPE=image/jpeg:https://www.asierpolo.com/wp-content/uploads/2018/12/20141103105002808263o.jpg
END:VEVENT
END:VCALENDAR