BEGIN:VCALENDAR
VERSION:2.0
PRODID:-//Asier Polo - ECPv5.8.1//NONSGML v1.0//EN
CALSCALE:GREGORIAN
METHOD:PUBLISH
X-WR-CALNAME:Asier Polo
X-ORIGINAL-URL:https://www.asierpolo.com/en/
X-WR-CALDESC:Events for Asier Polo
BEGIN:VTIMEZONE
TZID:Europe/Madrid
BEGIN:DAYLIGHT
TZOFFSETFROM:+0100
TZOFFSETTO:+0200
TZNAME:CEST
DTSTART:20180325T010000
END:DAYLIGHT
BEGIN:STANDARD
TZOFFSETFROM:+0200
TZOFFSETTO:+0100
TZNAME:CET
DTSTART:20181028T010000
END:STANDARD
END:VTIMEZONE
BEGIN:VEVENT
DTSTART;TZID=Europe/Madrid:20180701T121500
DTEND;TZID=Europe/Madrid:20180701T140000
DTSTAMP:20260423T191058
CREATED:20180513T174828Z
LAST-MODIFIED:20180513T174917Z
UID:2197-1530447300-1530453600@www.asierpolo.com
SUMMARY:Orquesta Sinfónica Nacional de México
DESCRIPTION:M. Bruch: Kol Nidrei op. 47 \nO. Respighi: Adagio con variazioni \nAsier Polo\, violoncello \nCarlos Miguel Prieto\, conductor \nOrquesta Sinfónica Nacional
URL:https://www.asierpolo.com/en/evento/orquesta-sinfonica-nacional-de-mexico-3/
LOCATION:Palacio de Bellas Artes\, Av. Juárez\, Centro Histórico\,\, Ciudad de México\, 06050\, México
ATTACH;FMTTYPE=image/jpeg:https://www.asierpolo.com/wp-content/uploads/2017/10/AP4.jpg
END:VEVENT
END:VCALENDAR