BEGIN:VCALENDAR
VERSION:2.0
PRODID:-//Asier Polo - ECPv5.8.1//NONSGML v1.0//EN
CALSCALE:GREGORIAN
METHOD:PUBLISH
X-WR-CALNAME:Asier Polo
X-ORIGINAL-URL:https://www.asierpolo.com/en/
X-WR-CALDESC:Events for Asier Polo
BEGIN:VTIMEZONE
TZID:Europe/Madrid
BEGIN:DAYLIGHT
TZOFFSETFROM:+0100
TZOFFSETTO:+0200
TZNAME:CEST
DTSTART:20220327T010000
END:DAYLIGHT
BEGIN:STANDARD
TZOFFSETFROM:+0200
TZOFFSETTO:+0100
TZNAME:CET
DTSTART:20221030T010000
END:STANDARD
END:VTIMEZONE
BEGIN:VEVENT
DTSTART;TZID=Europe/Madrid:20220114T193000
DTEND;TZID=Europe/Madrid:20220114T193000
DTSTAMP:20260426T004959
CREATED:20210528T083839Z
LAST-MODIFIED:20210528T084413Z
UID:3591-1642188600-1642188600@www.asierpolo.com
SUMMARY:Orquesta Sinfónica de RTVE
DESCRIPTION:Jesús Torres: “Transfiguración”\, double concerto for cello\, accordion and string orchestra \n  \nAsier Polo\, cello \nIñaki Alberdi\, accordion \nPablo González\, conductor \nOrquesta y Coro de RTVE \n  \nMore info & tickets
URL:https://www.asierpolo.com/en/evento/orquesta-sinfonica-de-rtve-2/
LOCATION:Teatro Monumental\, Calle Atocha 65\, Madrid\, 28012\, España
ATTACH;FMTTYPE=image/jpeg:https://www.asierpolo.com/wp-content/uploads/2020/02/NCS9626-copia.jpg
END:VEVENT
END:VCALENDAR