BEGIN:VCALENDAR
VERSION:2.0
PRODID:-//Asier Polo - ECPv5.8.1//NONSGML v1.0//EN
CALSCALE:GREGORIAN
METHOD:PUBLISH
X-WR-CALNAME:Asier Polo
X-ORIGINAL-URL:https://www.asierpolo.com/en/
X-WR-CALDESC:Events for Asier Polo
BEGIN:VTIMEZONE
TZID:Europe/Madrid
BEGIN:DAYLIGHT
TZOFFSETFROM:+0100
TZOFFSETTO:+0200
TZNAME:CEST
DTSTART:20210328T010000
END:DAYLIGHT
BEGIN:STANDARD
TZOFFSETFROM:+0200
TZOFFSETTO:+0100
TZNAME:CET
DTSTART:20211031T010000
END:STANDARD
END:VTIMEZONE
BEGIN:VEVENT
DTSTART;TZID=Europe/Madrid:20210610T200000
DTEND;TZID=Europe/Madrid:20210610T200000
DTSTAMP:20260426T005400
CREATED:20210215T193640Z
LAST-MODIFIED:20210521T173537Z
UID:3479-1623355200-1623355200@www.asierpolo.com
SUMMARY:Croatian Radio and Television Symphony Orchestra - HRT
DESCRIPTION:E. Elgar: Cello Concerto in E minor\, Op. 85 \n  \nAsier Polo\, cello \nEnrico Dindo\, conductor \nHRT Simfonijski Orkestar \n  \nMore info & tickets
URL:https://www.asierpolo.com/en/evento/orquesta-sinfonica-de-radiotelevision-de-croacia-hrt/
LOCATION:V. Lisinki Concert Hall\, Trg Stjepana Radića 4\, Zagreb\, 10000\, Croacia
ATTACH;FMTTYPE=image/jpeg:https://www.asierpolo.com/wp-content/uploads/2019/09/Asier9779proviamix-copia.jpg
END:VEVENT
END:VCALENDAR