BEGIN:VCALENDAR
VERSION:2.0
PRODID:-//Asier Polo - ECPv5.8.1//NONSGML v1.0//EN
CALSCALE:GREGORIAN
METHOD:PUBLISH
X-WR-CALNAME:Asier Polo
X-ORIGINAL-URL:https://www.asierpolo.com/en/
X-WR-CALDESC:Events for Asier Polo
BEGIN:VTIMEZONE
TZID:Europe/Madrid
BEGIN:DAYLIGHT
TZOFFSETFROM:+0100
TZOFFSETTO:+0200
TZNAME:CEST
DTSTART:20180325T010000
END:DAYLIGHT
BEGIN:STANDARD
TZOFFSETFROM:+0200
TZOFFSETTO:+0100
TZNAME:CET
DTSTART:20181028T010000
END:STANDARD
END:VTIMEZONE
BEGIN:VEVENT
DTSTART;TZID=Europe/Madrid:20181221T200000
DTEND;TZID=Europe/Madrid:20181221T200000
DTSTAMP:20260420T023408
CREATED:20180918T205519Z
LAST-MODIFIED:20180918T210143Z
UID:2462-1545422400-1545422400@www.asierpolo.com
SUMMARY:Orquesta Sinfónica de Navarra
DESCRIPTION:Edvard Elgar: Cello Concerto in E minor\, Op. 85 \n  \nAsier Polo\, cello – Artist in Residence 2018/19 of Fundación Baluarte \nChristoph König\, conductor \nOrquesta Sinfónica de Navarra \nMore info and tickets
URL:https://www.asierpolo.com/en/evento/orquesta-sinfonica-de-navarra-3-2/
LOCATION:Auditorio Baluarte\, Plaza del Baluarte\, s/n\, Pamplona\, 31002\, España
ATTACH;FMTTYPE=image/jpeg:https://www.asierpolo.com/wp-content/uploads/2016/09/AsierPolo4.jpg
END:VEVENT
END:VCALENDAR