BEGIN:VCALENDAR
VERSION:2.0
PRODID:-//Asier Polo - ECPv5.8.1//NONSGML v1.0//EN
CALSCALE:GREGORIAN
METHOD:PUBLISH
X-WR-CALNAME:Asier Polo
X-ORIGINAL-URL:https://www.asierpolo.com/en/
X-WR-CALDESC:Events for Asier Polo
BEGIN:VTIMEZONE
TZID:Europe/Madrid
BEGIN:DAYLIGHT
TZOFFSETFROM:+0100
TZOFFSETTO:+0200
TZNAME:CEST
DTSTART:20200329T010000
END:DAYLIGHT
BEGIN:STANDARD
TZOFFSETFROM:+0200
TZOFFSETTO:+0100
TZNAME:CET
DTSTART:20201025T010000
END:STANDARD
END:VTIMEZONE
BEGIN:VEVENT
DTSTART;TZID=Europe/Madrid:20200214T203000
DTEND;TZID=Europe/Madrid:20200214T203000
DTSTAMP:20260423T161100
CREATED:20190919T181406Z
LAST-MODIFIED:20190919T181538Z
UID:2879-1581712200-1581712200@www.asierpolo.com
SUMMARY:Orquesta Sinfónica de Galicia
DESCRIPTION:E. Elgar: Cello Concerto in E minor\, op. 85 \n  \nAsier Polo\, cello \nMichael Sanderling\, conductor \nOrquesta Sinfónica de Galicia \n  \nMore info & tickets
URL:https://www.asierpolo.com/en/evento/orquesta-sinfonica-de-galicia-2-2/
LOCATION:Palacio de la Ópera de A Coruña\, Glorieta de América\, 3\, A Coruña\, 15004\, España
ATTACH;FMTTYPE=image/jpeg:https://www.asierpolo.com/wp-content/uploads/2019/09/P_Entidad_1442860654429_800_800_U_313d6c2466e7debaa58d2971a167a89.jpg
END:VEVENT
END:VCALENDAR