BEGIN:VCALENDAR
VERSION:2.0
PRODID:-//Asier Polo - ECPv5.8.1//NONSGML v1.0//EN
CALSCALE:GREGORIAN
METHOD:PUBLISH
X-WR-CALNAME:Asier Polo
X-ORIGINAL-URL:https://www.asierpolo.com/en/
X-WR-CALDESC:Events for Asier Polo
BEGIN:VTIMEZONE
TZID:Europe/Madrid
BEGIN:DAYLIGHT
TZOFFSETFROM:+0100
TZOFFSETTO:+0200
TZNAME:CEST
DTSTART:20210328T010000
END:DAYLIGHT
BEGIN:STANDARD
TZOFFSETFROM:+0200
TZOFFSETTO:+0100
TZNAME:CET
DTSTART:20211031T010000
END:STANDARD
END:VTIMEZONE
BEGIN:VEVENT
DTSTART;TZID=Europe/Madrid:20210205T193000
DTEND;TZID=Europe/Madrid:20210205T193000
DTSTAMP:20260426T024747
CREATED:20200829T173827Z
LAST-MODIFIED:20201219T095631Z
UID:3240-1612553400-1612553400@www.asierpolo.com
SUMMARY:Spanish National Orchestra (Madrid I)
DESCRIPTION:F. J. Haydn: Cello Concerto No.1 in C major\, Hob. VII B1 \n  \nAsier Polo\, cello \nDavid Afkham\, conductor \nOrquesta Nacional de España \n  \nMore info & tickets
URL:https://www.asierpolo.com/en/evento/orquesta-nacional-de-espana-madrid-i/
LOCATION:Auditorio Nacional de Música\, C/ Príncipe de Vergara\, 146\, Madrid\, 28002\, España
ATTACH;FMTTYPE=image/jpeg:https://www.asierpolo.com/wp-content/uploads/2019/09/Asier9779proviamix-copia.jpg
END:VEVENT
END:VCALENDAR