BEGIN:VCALENDAR
VERSION:2.0
PRODID:-//Asier Polo - ECPv5.8.1//NONSGML v1.0//EN
CALSCALE:GREGORIAN
METHOD:PUBLISH
X-WR-CALNAME:Asier Polo
X-ORIGINAL-URL:https://www.asierpolo.com/en/
X-WR-CALDESC:Events for Asier Polo
BEGIN:VTIMEZONE
TZID:Europe/Madrid
BEGIN:DAYLIGHT
TZOFFSETFROM:+0100
TZOFFSETTO:+0200
TZNAME:CEST
DTSTART:20220327T010000
END:DAYLIGHT
BEGIN:STANDARD
TZOFFSETFROM:+0200
TZOFFSETTO:+0100
TZNAME:CET
DTSTART:20221030T010000
END:STANDARD
END:VTIMEZONE
BEGIN:VEVENT
DTSTART;TZID=Europe/Madrid:20220401T200000
DTEND;TZID=Europe/Madrid:20220401T200000
DTSTAMP:20260425T230321
CREATED:20210622T103639Z
LAST-MODIFIED:20210622T103935Z
UID:3687-1648843200-1648843200@www.asierpolo.com
SUMMARY:Orquesta Filarmónica de Málaga
DESCRIPTION:R. Schumann: Cello Concerto in A minor\, Op.129 \n  \nAsier Polo\, cello \nJosé María Moreno\, conductor \nOrquesta Filarmónica de Málaga \n  \nMore info & tickets
URL:https://www.asierpolo.com/en/evento/orquesta-filarmonica-de-malaga-4/
LOCATION:Teatro Cervantes\, Calle Ramos Marín\, 1\, Málaga\, 29012\, España
ATTACH;FMTTYPE=image/jpeg:https://www.asierpolo.com/wp-content/uploads/2020/02/NCS9719.jpg
END:VEVENT
END:VCALENDAR