BEGIN:VCALENDAR
VERSION:2.0
PRODID:-//Asier Polo - ECPv5.8.1//NONSGML v1.0//EN
CALSCALE:GREGORIAN
METHOD:PUBLISH
X-WR-CALNAME:Asier Polo
X-ORIGINAL-URL:https://www.asierpolo.com/en/
X-WR-CALDESC:Events for Asier Polo
BEGIN:VTIMEZONE
TZID:Europe/Madrid
BEGIN:DAYLIGHT
TZOFFSETFROM:+0100
TZOFFSETTO:+0200
TZNAME:CEST
DTSTART:20200329T010000
END:DAYLIGHT
BEGIN:STANDARD
TZOFFSETFROM:+0200
TZOFFSETTO:+0100
TZNAME:CET
DTSTART:20201025T010000
END:STANDARD
END:VTIMEZONE
BEGIN:VEVENT
DTSTART;TZID=Europe/Madrid:20200313T203000
DTEND;TZID=Europe/Madrid:20200313T203000
DTSTAMP:20260425T145307
CREATED:20190919T191625Z
LAST-MODIFIED:20190919T192003Z
UID:2915-1584131400-1584131400@www.asierpolo.com
SUMMARY:Orquesta de Extremadura
DESCRIPTION:A. Dvořák: Cello Concerto in B minor\, op.104 \n  \nAsier Polo\, cello \nAnne Manson\, conductor \nOrquesta de Extremadura \n  \nMore info & tickets
URL:https://www.asierpolo.com/en/evento/orquesta-de-extremadura-2/
LOCATION:Palacio de Congresos de Cáceres\, Av. de la Hispanidad\, S/N\, Cáceres\, 10005\, España
ATTACH;FMTTYPE=image/jpeg:https://www.asierpolo.com/wp-content/uploads/2019/09/palacio-de-congresos-de-caceres.jpg
END:VEVENT
END:VCALENDAR