BEGIN:VCALENDAR
VERSION:2.0
PRODID:-//Asier Polo - ECPv5.8.1//NONSGML v1.0//EN
CALSCALE:GREGORIAN
METHOD:PUBLISH
X-WR-CALNAME:Asier Polo
X-ORIGINAL-URL:https://www.asierpolo.com/en/
X-WR-CALDESC:Events for Asier Polo
BEGIN:VTIMEZONE
TZID:Europe/Madrid
BEGIN:DAYLIGHT
TZOFFSETFROM:+0100
TZOFFSETTO:+0200
TZNAME:CEST
DTSTART:20230326T010000
END:DAYLIGHT
BEGIN:STANDARD
TZOFFSETFROM:+0200
TZOFFSETTO:+0100
TZNAME:CET
DTSTART:20231029T010000
END:STANDARD
END:VTIMEZONE
BEGIN:VEVENT
DTSTART;TZID=Europe/Madrid:20230724T210000
DTEND;TZID=Europe/Madrid:20230724T210000
DTSTAMP:20260424T124252
CREATED:20230511T182546Z
LAST-MODIFIED:20230511T182907Z
UID:3877-1690232400-1690232400@www.asierpolo.com
SUMMARY:Chamber music. Ticino Musica Festival
DESCRIPTION:Concerto in trio \n  \nF. Mendelssohn: Trio no.1 in D minor\, Op. 49 \n  \nAlessandro Moccia\, violin \nAsier Polo\, cello \nUlrich Koella\, piano \n  \nMore info & tickets
URL:https://www.asierpolo.com/en/evento/musica-de-camara-ticino-musica-festival/
LOCATION:Conservatorio della Svizzera italiana\, Via Soldino 9\, Lugano\, 6900\, Suiza
ATTACH;FMTTYPE=image/jpeg:https://www.asierpolo.com/wp-content/uploads/2018/05/1dc70246-5723-40ff-a171-ae02fde03e40.jpg
END:VEVENT
END:VCALENDAR