BEGIN:VCALENDAR
VERSION:2.0
PRODID:-//Asier Polo - ECPv5.8.1//NONSGML v1.0//EN
CALSCALE:GREGORIAN
METHOD:PUBLISH
X-WR-CALNAME:Asier Polo
X-ORIGINAL-URL:https://www.asierpolo.com/en/
X-WR-CALDESC:Events for Asier Polo
BEGIN:VTIMEZONE
TZID:Europe/Madrid
BEGIN:DAYLIGHT
TZOFFSETFROM:+0100
TZOFFSETTO:+0200
TZNAME:CEST
DTSTART:20220327T010000
END:DAYLIGHT
BEGIN:STANDARD
TZOFFSETFROM:+0200
TZOFFSETTO:+0100
TZNAME:CET
DTSTART:20221030T010000
END:STANDARD
END:VTIMEZONE
BEGIN:VEVENT
DTSTART;TZID=Europe/Madrid:20221027T193000
DTEND;TZID=Europe/Madrid:20221027T193000
DTSTAMP:20260425T211936
CREATED:20220901T114843Z
LAST-MODIFIED:20220901T115211Z
UID:3755-1666899000-1666899000@www.asierpolo.com
SUMMARY:Chamber Music. Quantum Ensemble
DESCRIPTION:“Anhelos” [Longings] \n  \nWorks by F. Schubert\, J. Brahms\, J. Widmann\, R. Strauss. \n  \nAsier Polo\, cello \nRaquel Lojendio\, soprano \nAlexander Sitkovetsky\, violin \nCristo Barrios\, clarinet \nGustavo Díaz-Jerez\, piano \n  \nMore info & tickets
URL:https://www.asierpolo.com/en/evento/musica-de-camara-quantum-ensemble/
LOCATION:Auditorio de Tenerife\, Av de la Constitucion\, 1\, Santa Cruz de Tenerife\, 38003\, España
ATTACH;FMTTYPE=image/jpeg:https://www.asierpolo.com/wp-content/uploads/2015/08/auditorio2.jpg
END:VEVENT
END:VCALENDAR