BEGIN:VCALENDAR
VERSION:2.0
PRODID:-//Asier Polo - ECPv5.8.1//NONSGML v1.0//EN
CALSCALE:GREGORIAN
METHOD:PUBLISH
X-WR-CALNAME:Asier Polo
X-ORIGINAL-URL:https://www.asierpolo.com/en/
X-WR-CALDESC:Events for Asier Polo
BEGIN:VTIMEZONE
TZID:Europe/Madrid
BEGIN:DAYLIGHT
TZOFFSETFROM:+0100
TZOFFSETTO:+0200
TZNAME:CEST
DTSTART:20240331T010000
END:DAYLIGHT
BEGIN:STANDARD
TZOFFSETFROM:+0200
TZOFFSETTO:+0100
TZNAME:CET
DTSTART:20241027T010000
END:STANDARD
END:VTIMEZONE
BEGIN:VEVENT
DTSTART;VALUE=DATE:20240521
DTEND;VALUE=DATE:20240522
DTSTAMP:20260421T015656
CREATED:20231203T175727Z
LAST-MODIFIED:20231203T175943Z
UID:3980-1716249600-1716335999@www.asierpolo.com
SUMMARY:Chamber music. Dvořák & Schoenberg
DESCRIPTION:A. Dvořák: String sextet in A major\, Op. 48 \nA. Shoenberg: Verklärte Nacht\, Op. 4 \n  \nPerformers: M. Quarta\, R. Righetti\, L. Ranieri\, S. Braconi\, E. Dindo\, A. Polo \n  \nMore info
URL:https://www.asierpolo.com/en/evento/musica-de-camara-dvorak-schoenberg/
LOCATION:Collegio Borromeo\, Piazza del Collegio Borromeo\, 9\, Pavia\, 27100\, Italia
ATTACH;FMTTYPE=image/jpeg:https://www.asierpolo.com/wp-content/uploads/2023/12/Collegio_borromeo12-scaled.jpg
END:VEVENT
END:VCALENDAR