BEGIN:VCALENDAR
VERSION:2.0
PRODID:-//Asier Polo - ECPv5.8.1//NONSGML v1.0//EN
CALSCALE:GREGORIAN
METHOD:PUBLISH
X-WR-CALNAME:Asier Polo
X-ORIGINAL-URL:https://www.asierpolo.com/en/
X-WR-CALDESC:Events for Asier Polo
BEGIN:VTIMEZONE
TZID:Europe/Madrid
BEGIN:DAYLIGHT
TZOFFSETFROM:+0100
TZOFFSETTO:+0200
TZNAME:CEST
DTSTART:20210328T010000
END:DAYLIGHT
BEGIN:STANDARD
TZOFFSETFROM:+0200
TZOFFSETTO:+0100
TZNAME:CET
DTSTART:20211031T010000
END:STANDARD
END:VTIMEZONE
BEGIN:VEVENT
DTSTART;TZID=Europe/Madrid:20210707T210000
DTEND;TZID=Europe/Madrid:20210707T210000
DTSTAMP:20260426T005302
CREATED:20210622T090225Z
LAST-MODIFIED:20210622T101903Z
UID:3658-1625691600-1625691600@www.asierpolo.com
SUMMARY:Chamber Music. 'Concerto per la città'
DESCRIPTION:F. Mendelssohn: Trio No.1 in D minor\, Op. 49 \nJ. Brahms: String Sextet No.2 in G major\, Op. 36 \n  \nMarco Rizzi\, violin | Luca Ranieri\, viola | Asier Polo\, cello | Ricardo Ali Álvarez\, piano | and young talents from the violin\, viola and cello course Garda Lake. \n  \nMore info & ticket reservation \n 
URL:https://www.asierpolo.com/en/evento/musica-de-camara-concerto-per-la-citta/
LOCATION:Biblioteca Comunale\, Via Roma 4\, Padenghe sul Garda\, 25080\, Italia
ATTACH;FMTTYPE=image/jpeg:https://www.asierpolo.com/wp-content/uploads/2021/06/GardaLake2021.jpg
END:VEVENT
END:VCALENDAR