BEGIN:VCALENDAR
VERSION:2.0
PRODID:-//Asier Polo - ECPv5.8.1//NONSGML v1.0//EN
CALSCALE:GREGORIAN
METHOD:PUBLISH
X-WR-CALNAME:Asier Polo
X-ORIGINAL-URL:https://www.asierpolo.com/en/
X-WR-CALDESC:Events for Asier Polo
BEGIN:VTIMEZONE
TZID:Europe/Madrid
BEGIN:DAYLIGHT
TZOFFSETFROM:+0100
TZOFFSETTO:+0200
TZNAME:CEST
DTSTART:20220327T010000
END:DAYLIGHT
BEGIN:STANDARD
TZOFFSETFROM:+0200
TZOFFSETTO:+0100
TZNAME:CET
DTSTART:20221030T010000
END:STANDARD
END:VTIMEZONE
BEGIN:VEVENT
DTSTART;VALUE=DATE:20220205
DTEND;VALUE=DATE:20220207
DTSTAMP:20260425T230131
CREATED:20201219T101300Z
LAST-MODIFIED:20210215T201135Z
UID:3323-1644019200-1644191999@www.asierpolo.com
SUMMARY:Master Class. Pavia Cello Academy
DESCRIPTION:Registration open until August 10th\, 2021. \n  \nNOTE: Due to the current situation\, the dates of the master class could be altered. Check all the information in the link below. \n  \nMore info & registration
URL:https://www.asierpolo.com/en/evento/masterclass-pavia-cello-academy/
LOCATION:Collegio Borromeo\, Piazza del Collegio Borromeo\, 9\, Pavia\, 27100\, Italia
ATTACH;FMTTYPE=image/jpeg:https://www.asierpolo.com/wp-content/uploads/2019/09/PaviaCelloAcademy.jpg
END:VEVENT
END:VCALENDAR