BEGIN:VCALENDAR
VERSION:2.0
PRODID:-//Asier Polo - ECPv5.8.1//NONSGML v1.0//EN
CALSCALE:GREGORIAN
METHOD:PUBLISH
X-WR-CALNAME:Asier Polo
X-ORIGINAL-URL:https://www.asierpolo.com/en/
X-WR-CALDESC:Events for Asier Polo
BEGIN:VTIMEZONE
TZID:Europe/Madrid
BEGIN:DAYLIGHT
TZOFFSETFROM:+0100
TZOFFSETTO:+0200
TZNAME:CEST
DTSTART:20250330T010000
END:DAYLIGHT
BEGIN:STANDARD
TZOFFSETFROM:+0200
TZOFFSETTO:+0100
TZNAME:CET
DTSTART:20251026T010000
END:STANDARD
END:VTIMEZONE
BEGIN:VEVENT
DTSTART;VALUE=DATE:20250719
DTEND;VALUE=DATE:20250801
DTSTAMP:20260422T140359
CREATED:20250314T005759Z
LAST-MODIFIED:20250314T005759Z
UID:4218-1752883200-1754006399@www.asierpolo.com
SUMMARY:Master Classes. Ticino Musica Festival
DESCRIPTION:Más info & registration \n 
URL:https://www.asierpolo.com/en/evento/master-classes-ticino-musica-festival/
LOCATION:Ticino Musica Festival\, c/o CSI\, Via Soldino 9\, Lugano\, Suiza
ATTACH;FMTTYPE=image/jpeg:https://www.asierpolo.com/wp-content/uploads/2025/02/IMG_3690.jpg
END:VEVENT
END:VCALENDAR