BEGIN:VCALENDAR
VERSION:2.0
PRODID:-//Asier Polo - ECPv5.8.1//NONSGML v1.0//EN
CALSCALE:GREGORIAN
METHOD:PUBLISH
X-WR-CALNAME:Asier Polo
X-ORIGINAL-URL:https://www.asierpolo.com/en/
X-WR-CALDESC:Events for Asier Polo
BEGIN:VTIMEZONE
TZID:Europe/Madrid
BEGIN:DAYLIGHT
TZOFFSETFROM:+0100
TZOFFSETTO:+0200
TZNAME:CEST
DTSTART:20190331T010000
END:DAYLIGHT
BEGIN:STANDARD
TZOFFSETFROM:+0200
TZOFFSETTO:+0100
TZNAME:CET
DTSTART:20191027T010000
END:STANDARD
END:VTIMEZONE
BEGIN:VEVENT
DTSTART;TZID=Europe/Madrid:20191005T090000
DTEND;TZID=Europe/Madrid:20191005T190000
DTSTAMP:20260423T025904
CREATED:20190917T211514Z
LAST-MODIFIED:20190917T211605Z
UID:2826-1570266000-1570302000@www.asierpolo.com
SUMMARY:Master Class: Conservatorio di Torino
DESCRIPTION:Master Class and Seminar \nMore info
URL:https://www.asierpolo.com/en/evento/master-class-conservatorio-di-torino/
LOCATION:Conservatorio Statale di Musica ‘Giuseppe Verdi’ di Torino\, Via Mazzini 11\, Torino\, Italia
ATTACH;FMTTYPE=image/jpeg:https://www.asierpolo.com/wp-content/uploads/2019/09/2-1-770x400.jpg
END:VEVENT
END:VCALENDAR