BEGIN:VCALENDAR
VERSION:2.0
PRODID:-//Asier Polo - ECPv5.8.1//NONSGML v1.0//EN
CALSCALE:GREGORIAN
METHOD:PUBLISH
X-WR-CALNAME:Asier Polo
X-ORIGINAL-URL:https://www.asierpolo.com/en/
X-WR-CALDESC:Events for Asier Polo
BEGIN:VTIMEZONE
TZID:Europe/Madrid
BEGIN:DAYLIGHT
TZOFFSETFROM:+0100
TZOFFSETTO:+0200
TZNAME:CEST
DTSTART:20190331T010000
END:DAYLIGHT
BEGIN:STANDARD
TZOFFSETFROM:+0200
TZOFFSETTO:+0100
TZNAME:CET
DTSTART:20191027T010000
END:STANDARD
END:VTIMEZONE
BEGIN:VEVENT
DTSTART;VALUE=DATE:20190805
DTEND;VALUE=DATE:20190810
DTSTAMP:20260424T123040
CREATED:20190206T205215Z
LAST-MODIFIED:20190207T190305Z
UID:2606-1564963200-1565395199@www.asierpolo.com
SUMMARY:Jury at 'Carlos Prieto' International Cello Competition
DESCRIPTION:Applications open until Wednesday\, June 5th\, 2019. \nFirst stage: August 5th\, 2019 \nSecond stage: August 7th\, 2019 \nFinal: August 9th\, 2019 \nMembers of the Jury: Asier Polo (Spain)\, Carlos Prieto (Mexico)\, Jesús Castro-Balbi (Peru – USA)\, Mario Lavista (Mexico)\, William Molina (Venezuela)\, Philippe Muller (France)\, Namula (China). \nRegulations | More info: www.concursodeviolonchelocarlosprieto.com \n  \n 
URL:https://www.asierpolo.com/en/evento/jurado-en-el-concurso-internacional-de-violonchelo-carlos-prieto/
LOCATION:Conservatorio de las Rosas\, Calle Santiago Tapia 334\, Centro Histórico\, Morelia\, 58000\, México
ATTACH;FMTTYPE=image/jpeg:https://www.asierpolo.com/wp-content/uploads/2019/02/esi-copia.jpg
END:VEVENT
END:VCALENDAR