BEGIN:VCALENDAR
VERSION:2.0
PRODID:-//Asier Polo - ECPv5.8.1//NONSGML v1.0//EN
CALSCALE:GREGORIAN
METHOD:PUBLISH
X-WR-CALNAME:Asier Polo
X-ORIGINAL-URL:https://www.asierpolo.com/en/
X-WR-CALDESC:Events for Asier Polo
BEGIN:VTIMEZONE
TZID:Europe/Madrid
BEGIN:DAYLIGHT
TZOFFSETFROM:+0100
TZOFFSETTO:+0200
TZNAME:CEST
DTSTART:20190331T010000
END:DAYLIGHT
BEGIN:STANDARD
TZOFFSETFROM:+0200
TZOFFSETTO:+0100
TZNAME:CET
DTSTART:20191027T010000
END:STANDARD
END:VTIMEZONE
BEGIN:VEVENT
DTSTART;VALUE=DATE:20190927
DTEND;VALUE=DATE:20191005
DTSTAMP:20260423T011429
CREATED:20190207T185510Z
LAST-MODIFIED:20190207T190219Z
UID:2619-1569542400-1570233599@www.asierpolo.com
SUMMARY:Jury at “International Cello Competition ‘Benedetto Mazzacurati’”
DESCRIPTION:Applications open until Saturday\, April 20th\, 2019. \nVideo selection: June 8-23\, 2019 \nSemifinal: September 27-30\, 2019 \nFinal: October 2 & 4\, 2019 \nMembers of the Jury: Asier Polo\, Enrico Dindo\, Giovanni Sollima\, Frans Helmerson\, Jens Peter Maintz\, Ernesto Schiavi\, Marco Zuccarini. \nRegulations: Italiano – English | More info: www.mazzacuraticompetition.com
URL:https://www.asierpolo.com/en/evento/jurado-en-el-concorso-internazionale-di-violoncello-benedetto-mazzacurati/
LOCATION:Conservatorio ‘G. Verdi’\, via Mazzini 11\, Torino\, 10123\, Italia
ATTACH;FMTTYPE=image/jpeg:https://www.asierpolo.com/wp-content/uploads/2019/02/home_slideshow_header_en_2019.jpg
END:VEVENT
END:VCALENDAR