BEGIN:VCALENDAR
VERSION:2.0
PRODID:-//Asier Polo - ECPv5.8.1//NONSGML v1.0//EN
CALSCALE:GREGORIAN
METHOD:PUBLISH
X-WR-CALNAME:Asier Polo
X-ORIGINAL-URL:https://www.asierpolo.com/en/
X-WR-CALDESC:Events for Asier Polo
BEGIN:VTIMEZONE
TZID:Europe/Madrid
BEGIN:DAYLIGHT
TZOFFSETFROM:+0100
TZOFFSETTO:+0200
TZNAME:CEST
DTSTART:20180325T010000
END:DAYLIGHT
BEGIN:STANDARD
TZOFFSETFROM:+0200
TZOFFSETTO:+0100
TZNAME:CET
DTSTART:20181028T010000
END:STANDARD
END:VTIMEZONE
BEGIN:VEVENT
DTSTART;TZID=Europe/Madrid:20180729T200000
DTEND;TZID=Europe/Madrid:20180729T200000
DTSTAMP:20260423T080457
CREATED:20180630T225113Z
LAST-MODIFIED:20180630T225113Z
UID:2258-1532894400-1532894400@www.asierpolo.com
SUMMARY:Joven Orquesta Nacional de España
DESCRIPTION:Strauss: ‘Don Quixote’\, Op.35 \nAsier Polo\, violoncello \nPablo González\, conductor \nJoven Orquesta Nacional de España (JONDE) \nMore information
URL:https://www.asierpolo.com/en/evento/joven-orquesta-nacional-de-espana-riojaforum/
LOCATION:Riojaforum\, Calle San Millán 25\, Logroño\, 26004\, España
ATTACH;FMTTYPE=image/jpeg:https://www.asierpolo.com/wp-content/uploads/2016/09/AsierPolo3.jpg
END:VEVENT
END:VCALENDAR