BEGIN:VCALENDAR
VERSION:2.0
PRODID:-//Asier Polo - ECPv5.8.1//NONSGML v1.0//EN
CALSCALE:GREGORIAN
METHOD:PUBLISH
X-WR-CALNAME:Asier Polo
X-ORIGINAL-URL:https://www.asierpolo.com/en/
X-WR-CALDESC:Events for Asier Polo
BEGIN:VTIMEZONE
TZID:Europe/Madrid
BEGIN:DAYLIGHT
TZOFFSETFROM:+0100
TZOFFSETTO:+0200
TZNAME:CEST
DTSTART:20180325T010000
END:DAYLIGHT
BEGIN:STANDARD
TZOFFSETFROM:+0200
TZOFFSETTO:+0100
TZNAME:CET
DTSTART:20181028T010000
END:STANDARD
END:VTIMEZONE
BEGIN:VEVENT
DTSTART;TZID=Europe/Madrid:20180807T193000
DTEND;TZID=Europe/Madrid:20180807T193000
DTSTAMP:20260423T004931
CREATED:20180630T234412Z
LAST-MODIFIED:20180630T234652Z
UID:2285-1533670200-1533670200@www.asierpolo.com
SUMMARY:Joven Orquesta Nacional de España
DESCRIPTION:Kultursommer Nordhessen Festival\nStrauss: ‘Don Quixote’\, Op.35 \nAsier Polo\, violoncello \nPablo González\, conductor \nJoven Orquesta Nacional de España (JONDE) \nMore information
URL:https://www.asierpolo.com/en/evento/joven-orquesta-nacional-de-espana-kassel/
LOCATION:Kongress Palais Kassel\, Holger-Börner-Platz 1\, Kassel\, 34119\, Alemania
ATTACH;FMTTYPE=image/jpeg:https://www.asierpolo.com/wp-content/uploads/2016/09/AsierPolo2.jpg
END:VEVENT
END:VCALENDAR