BEGIN:VCALENDAR
VERSION:2.0
PRODID:-//Asier Polo - ECPv5.8.1//NONSGML v1.0//EN
CALSCALE:GREGORIAN
METHOD:PUBLISH
X-WR-CALNAME:Asier Polo
X-ORIGINAL-URL:https://www.asierpolo.com/en/
X-WR-CALDESC:Events for Asier Polo
BEGIN:VTIMEZONE
TZID:Europe/Madrid
BEGIN:DAYLIGHT
TZOFFSETFROM:+0100
TZOFFSETTO:+0200
TZNAME:CEST
DTSTART:20250330T010000
END:DAYLIGHT
BEGIN:STANDARD
TZOFFSETFROM:+0200
TZOFFSETTO:+0100
TZNAME:CET
DTSTART:20251026T010000
END:STANDARD
END:VTIMEZONE
BEGIN:VEVENT
DTSTART;TZID=Europe/Madrid:20250907T200000
DTEND;TZID=Europe/Madrid:20250907T200000
DTSTAMP:20260420T135046
CREATED:20250314T010606Z
LAST-MODIFIED:20250314T012418Z
UID:4224-1757275200-1757275200@www.asierpolo.com
SUMMARY:Incontri con la musica a Villa Giulia. Associazione PROMU
DESCRIPTION:J. Brahms: String sextets No.1 op.38 y No.2 op.36 \n  \n\nMassimo Quarta\, violin \nRoberto Righetti\, violin \n\n\nLuca Ranieri\, viola \n\n\nSimonide Braconi\, viola \n\n\nEnrico Dindo\, cello \n\n\nAsier Polo\, cello \n\n  \n  \nMore info \n\n 
URL:https://www.asierpolo.com/en/evento/incontri-con-la-musica-a-villa-giulia-associazione-promu/
LOCATION:ETRU – Museo Nazionale Etrusco di Villa Giulia\, Piazzale di Villa Giulia\, 9\, Roma\, 00196\, Italia
ATTACH;FMTTYPE=image/webp:https://www.asierpolo.com/wp-content/uploads/2025/03/ETRU.webp
END:VEVENT
END:VCALENDAR