BEGIN:VCALENDAR
VERSION:2.0
PRODID:-//Asier Polo - ECPv5.8.1//NONSGML v1.0//EN
CALSCALE:GREGORIAN
METHOD:PUBLISH
X-WR-CALNAME:Asier Polo
X-ORIGINAL-URL:https://www.asierpolo.com/en/
X-WR-CALDESC:Events for Asier Polo
BEGIN:VTIMEZONE
TZID:Europe/Madrid
BEGIN:DAYLIGHT
TZOFFSETFROM:+0100
TZOFFSETTO:+0200
TZNAME:CEST
DTSTART:20180325T010000
END:DAYLIGHT
BEGIN:STANDARD
TZOFFSETFROM:+0200
TZOFFSETTO:+0100
TZNAME:CET
DTSTART:20181028T010000
END:STANDARD
END:VTIMEZONE
BEGIN:VEVENT
DTSTART;VALUE=DATE:20181007
DTEND;VALUE=DATE:20181012
DTSTAMP:20260420T060645
CREATED:20180918T194245Z
LAST-MODIFIED:20180918T194245Z
UID:2421-1538870400-1539302399@www.asierpolo.com
SUMMARY:Recording: New CD
DESCRIPTION:More information coming soon
URL:https://www.asierpolo.com/en/evento/grabacion-nuevo-cd/
LOCATION:Auditorio Manuel de Falla\, Granada\, España
ATTACH;FMTTYPE=image/jpeg:https://www.asierpolo.com/wp-content/uploads/2015/08/Asier-Polo-1º-Mov.-Suite-per-violoncello-G.-Cassadó.jpg
END:VEVENT
END:VCALENDAR