BEGIN:VCALENDAR
VERSION:2.0
PRODID:-//Asier Polo - ECPv5.8.1//NONSGML v1.0//EN
CALSCALE:GREGORIAN
METHOD:PUBLISH
X-WR-CALNAME:Asier Polo
X-ORIGINAL-URL:https://www.asierpolo.com/en/
X-WR-CALDESC:Events for Asier Polo
BEGIN:VTIMEZONE
TZID:Europe/Madrid
BEGIN:DAYLIGHT
TZOFFSETFROM:+0100
TZOFFSETTO:+0200
TZNAME:CEST
DTSTART:20190331T010000
END:DAYLIGHT
BEGIN:STANDARD
TZOFFSETFROM:+0200
TZOFFSETTO:+0100
TZNAME:CET
DTSTART:20191027T010000
END:STANDARD
END:VTIMEZONE
BEGIN:VEVENT
DTSTART;VALUE=DATE:20190909
DTEND;VALUE=DATE:20190914
DTSTAMP:20260422T212849
CREATED:20190618T202020Z
LAST-MODIFIED:20190618T202051Z
UID:2745-1567987200-1568419199@www.asierpolo.com
SUMMARY:Recording: new album
DESCRIPTION:More information coming soon
URL:https://www.asierpolo.com/en/evento/grabacion-nuevo-album/
LOCATION:Colegiata de Zenarruza\, Ziortza-Bolibar\, Bizkaia\, 48278\, España
ATTACH;FMTTYPE=image/jpeg:https://www.asierpolo.com/wp-content/uploads/2015/07/P2014_6.jpg
END:VEVENT
END:VCALENDAR