BEGIN:VCALENDAR
VERSION:2.0
PRODID:-//Asier Polo - ECPv5.8.1//NONSGML v1.0//EN
CALSCALE:GREGORIAN
METHOD:PUBLISH
X-WR-CALNAME:Asier Polo
X-ORIGINAL-URL:https://www.asierpolo.com/en/
X-WR-CALDESC:Events for Asier Polo
BEGIN:VTIMEZONE
TZID:Europe/Madrid
BEGIN:DAYLIGHT
TZOFFSETFROM:+0100
TZOFFSETTO:+0200
TZNAME:CEST
DTSTART:20230326T010000
END:DAYLIGHT
BEGIN:STANDARD
TZOFFSETFROM:+0200
TZOFFSETTO:+0100
TZNAME:CET
DTSTART:20231029T010000
END:STANDARD
END:VTIMEZONE
BEGIN:VEVENT
DTSTART;VALUE=DATE:20230901
DTEND;VALUE=DATE:20230910
DTSTAMP:20260422T210543
CREATED:20220906T165855Z
LAST-MODIFIED:20220907T191854Z
UID:3819-1693526400-1694303999@www.asierpolo.com
SUMMARY:Recording. Euskadiko Orkestra
DESCRIPTION:G. Erkoreka: Concerto for cello and orchestra\, “Ekaitza” \n  \nAsier Polo\, cello \nJuanjo Mena\, conductor \nEuskadiko Orkestra / Basque National Orchestra
URL:https://www.asierpolo.com/en/evento/grabacion-euskadiko-orkestra/
LOCATION:Donostia\, San Sebastián\, España
ATTACH;FMTTYPE=image/jpeg:https://www.asierpolo.com/wp-content/uploads/2020/05/1-mg_1965.jpg
END:VEVENT
END:VCALENDAR