BEGIN:VCALENDAR
VERSION:2.0
PRODID:-//Asier Polo - ECPv5.8.1//NONSGML v1.0//EN
CALSCALE:GREGORIAN
METHOD:PUBLISH
X-WR-CALNAME:Asier Polo
X-ORIGINAL-URL:https://www.asierpolo.com/en/
X-WR-CALDESC:Events for Asier Polo
BEGIN:VTIMEZONE
TZID:Europe/Madrid
BEGIN:DAYLIGHT
TZOFFSETFROM:+0100
TZOFFSETTO:+0200
TZNAME:CEST
DTSTART:20180325T010000
END:DAYLIGHT
BEGIN:STANDARD
TZOFFSETFROM:+0200
TZOFFSETTO:+0100
TZNAME:CET
DTSTART:20181028T010000
END:STANDARD
END:VTIMEZONE
BEGIN:VEVENT
DTSTART;VALUE=DATE:20180414
DTEND;VALUE=DATE:20180415
DTSTAMP:20260426T013620
CREATED:20171028T174736Z
LAST-MODIFIED:20171028T174936Z
UID:2011-1523664000-1523750399@www.asierpolo.com
SUMMARY:Gasteizko Ganbara Orkestra
DESCRIPTION:Iker Sánchez\, conductor \nAsier Polo\, cello \nJ. Haydn: Cello Concerto in C Major Hob.VIIb:1
URL:https://www.asierpolo.com/en/evento/gasteizko-ganbara-orkestra/
LOCATION:Teatro Principal\, Vitoria-Gasteiz\, España
ATTACH;FMTTYPE=image/jpeg:https://www.asierpolo.com/wp-content/uploads/2015/07/C2014_4.jpg
END:VEVENT
END:VCALENDAR