BEGIN:VCALENDAR
VERSION:2.0
PRODID:-//Asier Polo - ECPv5.8.1//NONSGML v1.0//EN
CALSCALE:GREGORIAN
METHOD:PUBLISH
X-WR-CALNAME:Asier Polo
X-ORIGINAL-URL:https://www.asierpolo.com/en/
X-WR-CALDESC:Events for Asier Polo
BEGIN:VTIMEZONE
TZID:Europe/Madrid
BEGIN:DAYLIGHT
TZOFFSETFROM:+0100
TZOFFSETTO:+0200
TZNAME:CEST
DTSTART:20220327T010000
END:DAYLIGHT
BEGIN:STANDARD
TZOFFSETFROM:+0200
TZOFFSETTO:+0100
TZNAME:CET
DTSTART:20221030T010000
END:STANDARD
END:VTIMEZONE
BEGIN:VEVENT
DTSTART;VALUE=DATE:20221118
DTEND;VALUE=DATE:20221119
DTSTAMP:20260425T181540
CREATED:20220906T122140Z
LAST-MODIFIED:20220906T122425Z
UID:3781-1668729600-1668815999@www.asierpolo.com
SUMMARY:Pau Casals International Award
DESCRIPTION:Asier Polo\, jury \n  \nMore info
URL:https://www.asierpolo.com/en/evento/galardon-internacional-pau-casals/
LOCATION:Escola Municipal de Música Pau Casals\, Passatge del Tívoli\, 3\, El Vendrell\, Tarragona\, 43700\, España
ATTACH;FMTTYPE=image/png:https://www.asierpolo.com/wp-content/uploads/2022/09/GalardonPauCasalsENG.png
END:VEVENT
END:VCALENDAR