BEGIN:VCALENDAR
VERSION:2.0
PRODID:-//Asier Polo - ECPv5.8.1//NONSGML v1.0//EN
CALSCALE:GREGORIAN
METHOD:PUBLISH
X-WR-CALNAME:Asier Polo
X-ORIGINAL-URL:https://www.asierpolo.com/en/
X-WR-CALDESC:Events for Asier Polo
BEGIN:VTIMEZONE
TZID:Europe/Madrid
BEGIN:DAYLIGHT
TZOFFSETFROM:+0100
TZOFFSETTO:+0200
TZNAME:CEST
DTSTART:20190331T010000
END:DAYLIGHT
BEGIN:STANDARD
TZOFFSETFROM:+0200
TZOFFSETTO:+0100
TZNAME:CET
DTSTART:20191027T010000
END:STANDARD
END:VTIMEZONE
BEGIN:VEVENT
DTSTART;TZID=Europe/Madrid:20190303T170000
DTEND;TZID=Europe/Madrid:20190303T170000
DTSTAMP:20260420T042837
CREATED:20190211T002320Z
LAST-MODIFIED:20190211T002555Z
UID:2628-1551632400-1551632400@www.asierpolo.com
SUMMARY:Musika-Música Festival: Orquesta Sinfónica de Navarra
DESCRIPTION:E. Elgar: Cello Concerto in E minor\, Op. 85 \n  \nAsier Polo\, violoncello \nNicholas Milton\, conductor \nOrquesta Sinfónica de Navarra \nMore info and tickets \n 
URL:https://www.asierpolo.com/en/evento/festival-musika-musica-orquesta-sinfonica-de-navarra/
LOCATION:Palacio Euskalduna Jauregia\, Abandoibarra Etorb.\, 4\, Bilbao\, 48011\, España
ATTACH;FMTTYPE=image/jpeg:https://www.asierpolo.com/wp-content/uploads/2019/02/musika-musica-2019-home1.jpg
END:VEVENT
END:VCALENDAR