BEGIN:VCALENDAR
VERSION:2.0
PRODID:-//Asier Polo - ECPv5.8.1//NONSGML v1.0//EN
CALSCALE:GREGORIAN
METHOD:PUBLISH
X-WR-CALNAME:Asier Polo
X-ORIGINAL-URL:https://www.asierpolo.com/en/
X-WR-CALDESC:Events for Asier Polo
BEGIN:VTIMEZONE
TZID:Europe/Madrid
BEGIN:DAYLIGHT
TZOFFSETFROM:+0100
TZOFFSETTO:+0200
TZNAME:CEST
DTSTART:20230326T010000
END:DAYLIGHT
BEGIN:STANDARD
TZOFFSETFROM:+0200
TZOFFSETTO:+0100
TZNAME:CET
DTSTART:20231029T010000
END:STANDARD
END:VTIMEZONE
BEGIN:VEVENT
DTSTART;VALUE=DATE:20230304
DTEND;VALUE=DATE:20230305
DTSTAMP:20260425T161819
CREATED:20221129T101833Z
LAST-MODIFIED:20221129T104639Z
UID:3830-1677888000-1677974399@www.asierpolo.com
SUMMARY:Musika-Música Festival I
DESCRIPTION:Works by César Frank and Enrique Granados. \n  \nAsier Polo\, cello \nMarta Zabaleta\, piano \n  \nMore info & tickets
URL:https://www.asierpolo.com/en/evento/festival-musika-musica-i/
LOCATION:Palacio Euskalduna Jauregia\, Abandoibarra Etorb.\, 4\, Bilbao\, 48011\, España
ATTACH;FMTTYPE=image/jpeg:https://www.asierpolo.com/wp-content/uploads/2020/02/AsierPoloMartaZabaleta02-2017.jpg
END:VEVENT
END:VCALENDAR