BEGIN:VCALENDAR
VERSION:2.0
PRODID:-//Asier Polo - ECPv5.8.1//NONSGML v1.0//EN
CALSCALE:GREGORIAN
METHOD:PUBLISH
X-WR-CALNAME:Asier Polo
X-ORIGINAL-URL:https://www.asierpolo.com/en/
X-WR-CALDESC:Events for Asier Polo
BEGIN:VTIMEZONE
TZID:Europe/Madrid
BEGIN:DAYLIGHT
TZOFFSETFROM:+0100
TZOFFSETTO:+0200
TZNAME:CEST
DTSTART:20220327T010000
END:DAYLIGHT
BEGIN:STANDARD
TZOFFSETFROM:+0200
TZOFFSETTO:+0100
TZNAME:CET
DTSTART:20221030T010000
END:STANDARD
END:VTIMEZONE
BEGIN:VEVENT
DTSTART;TZID=Europe/Madrid:20220520T200000
DTEND;TZID=Europe/Madrid:20220520T200000
DTSTAMP:20260425T211901
CREATED:20210618T103028Z
LAST-MODIFIED:20210618T104136Z
UID:3630-1653076800-1653076800@www.asierpolo.com
SUMMARY:Basque National Orchestra
DESCRIPTION:E. Elgar: Cello Concerto in E minor\, Op. 85 \n  \nAsier Polo\, cello \nRobert Treviño\, conductor \nEuskadiko Orkestra \n  \nMore info & tickets
URL:https://www.asierpolo.com/en/evento/euskadiko-orkestra-5/
LOCATION:Teatro Principal Antzokia\, San Prudencio Kalea\, 29\, Vitoria/Gasteiz\, 01005\, España
ATTACH;FMTTYPE=image/jpeg:https://www.asierpolo.com/wp-content/uploads/2021/06/TeatroPrincialAntzokiaGasteiz.jpg
END:VEVENT
END:VCALENDAR