BEGIN:VCALENDAR
VERSION:2.0
PRODID:-//Asier Polo - ECPv5.8.1//NONSGML v1.0//EN
CALSCALE:GREGORIAN
METHOD:PUBLISH
X-WR-CALNAME:Asier Polo
X-ORIGINAL-URL:https://www.asierpolo.com/en/
X-WR-CALDESC:Events for Asier Polo
BEGIN:VTIMEZONE
TZID:Europe/Madrid
BEGIN:DAYLIGHT
TZOFFSETFROM:+0100
TZOFFSETTO:+0200
TZNAME:CEST
DTSTART:20220327T010000
END:DAYLIGHT
BEGIN:STANDARD
TZOFFSETFROM:+0200
TZOFFSETTO:+0100
TZNAME:CET
DTSTART:20221030T010000
END:STANDARD
END:VTIMEZONE
BEGIN:VEVENT
DTSTART;TZID=Europe/Madrid:20220517T193000
DTEND;TZID=Europe/Madrid:20220517T193000
DTSTAMP:20260425T211711
CREATED:20210618T101548Z
LAST-MODIFIED:20210618T104120Z
UID:3626-1652815800-1652815800@www.asierpolo.com
SUMMARY:Basque National Orchestra
DESCRIPTION:E. Elgar: Cello Concerto in E minor\, Op. 85 \n  \nAsier Polo\, cello \nRobert Treviño\, conductor \nEuskadiko Orkestra \n  \nMore info & tickets
URL:https://www.asierpolo.com/en/evento/euskadiko-orkestra-3/
LOCATION:Auditorio Kursaal\, Zurriola Hiribidea\, 1\, Donostia/San Sebastián\, 20002\, España
ATTACH;FMTTYPE=image/jpeg:https://www.asierpolo.com/wp-content/uploads/2021/06/kursaaldonostia.jpg
END:VEVENT
END:VCALENDAR