BEGIN:VCALENDAR
VERSION:2.0
PRODID:-//Asier Polo - ECPv5.8.1//NONSGML v1.0//EN
CALSCALE:GREGORIAN
METHOD:PUBLISH
X-WR-CALNAME:Asier Polo
X-ORIGINAL-URL:https://www.asierpolo.com/en/
X-WR-CALDESC:Events for Asier Polo
BEGIN:VTIMEZONE
TZID:Europe/Madrid
BEGIN:DAYLIGHT
TZOFFSETFROM:+0100
TZOFFSETTO:+0200
TZNAME:CEST
DTSTART:20240331T010000
END:DAYLIGHT
BEGIN:STANDARD
TZOFFSETFROM:+0200
TZOFFSETTO:+0100
TZNAME:CET
DTSTART:20241027T010000
END:STANDARD
END:VTIMEZONE
BEGIN:VEVENT
DTSTART;VALUE=DATE:20240719
DTEND;VALUE=DATE:20240801
DTSTAMP:20260420T224653
CREATED:20231203T181200Z
LAST-MODIFIED:20231203T181231Z
UID:3994-1721347200-1722470399@www.asierpolo.com
SUMMARY:Master Classes. Ticino Musica Festival
DESCRIPTION:More info & registration
URL:https://www.asierpolo.com/en/evento/clases-magistrales-ticino-musica-festival-2/
LOCATION:Conservatorio della Svizzera italiana\, Via Soldino 9\, Lugano\, 6900\, Suiza
ATTACH;FMTTYPE=image/jpeg:https://www.asierpolo.com/wp-content/uploads/2022/11/TicinoMusica.jpg
END:VEVENT
END:VCALENDAR