BEGIN:VCALENDAR
VERSION:2.0
PRODID:-//Asier Polo - ECPv5.8.1//NONSGML v1.0//EN
CALSCALE:GREGORIAN
METHOD:PUBLISH
X-WR-CALNAME:Asier Polo
X-ORIGINAL-URL:https://www.asierpolo.com/en/
X-WR-CALDESC:Events for Asier Polo
BEGIN:VTIMEZONE
TZID:Europe/Madrid
BEGIN:DAYLIGHT
TZOFFSETFROM:+0100
TZOFFSETTO:+0200
TZNAME:CEST
DTSTART:20240331T010000
END:DAYLIGHT
BEGIN:STANDARD
TZOFFSETFROM:+0200
TZOFFSETTO:+0100
TZNAME:CET
DTSTART:20241027T010000
END:STANDARD
END:VTIMEZONE
BEGIN:VEVENT
DTSTART;VALUE=DATE:20240708
DTEND;VALUE=DATE:20240714
DTSTAMP:20260421T002419
CREATED:20231203T180748Z
LAST-MODIFIED:20231203T180904Z
UID:3989-1720396800-1720915199@www.asierpolo.com
SUMMARY:Master Classes. Tibor Varga Summer Academy
DESCRIPTION:61st edition. \n  \nRegistration open from march 2024. \n  \nMore info & registration
URL:https://www.asierpolo.com/en/evento/clases-magistrales-tibor-varga-summer-academy/
LOCATION:Academy Of Music Tibor Varga\, Place Ambuel 7\, Sion\, 1950\, Suiza
ATTACH;FMTTYPE=image/jpeg:https://www.asierpolo.com/wp-content/uploads/2022/09/Nuevo-proyecto.jpg
END:VEVENT
END:VCALENDAR