BEGIN:VCALENDAR
VERSION:2.0
PRODID:-//Asier Polo - ECPv5.8.1//NONSGML v1.0//EN
CALSCALE:GREGORIAN
METHOD:PUBLISH
X-WR-CALNAME:Asier Polo
X-ORIGINAL-URL:https://www.asierpolo.com/en/
X-WR-CALDESC:Events for Asier Polo
BEGIN:VTIMEZONE
TZID:Europe/Madrid
BEGIN:DAYLIGHT
TZOFFSETFROM:+0100
TZOFFSETTO:+0200
TZNAME:CEST
DTSTART:20240331T010000
END:DAYLIGHT
BEGIN:STANDARD
TZOFFSETFROM:+0200
TZOFFSETTO:+0100
TZNAME:CET
DTSTART:20241027T010000
END:STANDARD
END:VTIMEZONE
BEGIN:VEVENT
DTSTART;VALUE=DATE:20240217
DTEND;VALUE=DATE:20240219
DTSTAMP:20260423T043448
CREATED:20231203T165051Z
LAST-MODIFIED:20231203T165144Z
UID:3957-1708128000-1708300799@www.asierpolo.com
SUMMARY:Master Class. Pavia Cello Academy
DESCRIPTION:More info & registration
URL:https://www.asierpolo.com/en/evento/clase-magistral-pavia-cello-academy-2/
LOCATION:Collegio Borromeo\, Piazza del Collegio Borromeo\, 9\, Pavia\, 27100\, Italia
ATTACH;FMTTYPE=image/jpeg:https://www.asierpolo.com/wp-content/uploads/2019/09/PaviaCelloAcademy.jpg
END:VEVENT
END:VCALENDAR