BEGIN:VCALENDAR
VERSION:2.0
PRODID:-//Asier Polo - ECPv5.8.1//NONSGML v1.0//EN
CALSCALE:GREGORIAN
METHOD:PUBLISH
X-WR-CALNAME:Asier Polo
X-ORIGINAL-URL:https://www.asierpolo.com/en/
X-WR-CALDESC:Events for Asier Polo
BEGIN:VTIMEZONE
TZID:Europe/Madrid
BEGIN:DAYLIGHT
TZOFFSETFROM:+0100
TZOFFSETTO:+0200
TZNAME:CEST
DTSTART:20220327T010000
END:DAYLIGHT
BEGIN:STANDARD
TZOFFSETFROM:+0200
TZOFFSETTO:+0100
TZNAME:CET
DTSTART:20221030T010000
END:STANDARD
END:VTIMEZONE
BEGIN:VEVENT
DTSTART;VALUE=DATE:20220709
DTEND;VALUE=DATE:20220714
DTSTAMP:20260425T230857
CREATED:20220401T001514Z
LAST-MODIFIED:20220401T001745Z
UID:3741-1657324800-1657756799@www.asierpolo.com
SUMMARY:Master Class. Garda Lake Music Festival
DESCRIPTION:Registration open until June 10\, 2022. \n  \nMore info & registration
URL:https://www.asierpolo.com/en/evento/clase-magistral-garda-lake-music-festival/
LOCATION:Istituto Antoniano Dei Padri Rogazionisti\, Viale Motta\, 54\, Desenzano del Garda\, 25015\, Italia
ATTACH;FMTTYPE=image/jpeg:https://www.asierpolo.com/wp-content/uploads/2022/04/GardaLake2022.jpeg
END:VEVENT
END:VCALENDAR