BEGIN:VCALENDAR
VERSION:2.0
PRODID:-//Asier Polo - ECPv5.8.1//NONSGML v1.0//EN
CALSCALE:GREGORIAN
METHOD:PUBLISH
X-WR-CALNAME:Asier Polo
X-ORIGINAL-URL:https://www.asierpolo.com/en/
X-WR-CALDESC:Events for Asier Polo
BEGIN:VTIMEZONE
TZID:Europe/Madrid
BEGIN:DAYLIGHT
TZOFFSETFROM:+0100
TZOFFSETTO:+0200
TZNAME:CEST
DTSTART:20210328T010000
END:DAYLIGHT
BEGIN:STANDARD
TZOFFSETFROM:+0200
TZOFFSETTO:+0100
TZNAME:CET
DTSTART:20211031T010000
END:STANDARD
END:VTIMEZONE
BEGIN:VEVENT
DTSTART;VALUE=DATE:20210518
DTEND;VALUE=DATE:20210520
DTSTAMP:20260426T024723
CREATED:20210215T190037Z
LAST-MODIFIED:20210215T190210Z
UID:3474-1621296000-1621468799@www.asierpolo.com
SUMMARY:Clase magistral. Forum Musikae
DESCRIPTION:More info & registration
URL:https://www.asierpolo.com/en/evento/clase-magistral-forum-musikae/
LOCATION:Forum Musikae\, Calle Irlanda 3\, Pozuelo de Alarcón\, Madrid\, España
ATTACH;FMTTYPE=image/png:https://www.asierpolo.com/wp-content/uploads/2017/03/Forum-Musikae-logo.png
END:VEVENT
END:VCALENDAR