BEGIN:VCALENDAR
VERSION:2.0
PRODID:-//Asier Polo - ECPv5.8.1//NONSGML v1.0//EN
CALSCALE:GREGORIAN
METHOD:PUBLISH
X-WR-CALNAME:Asier Polo
X-ORIGINAL-URL:https://www.asierpolo.com/en/
X-WR-CALDESC:Events for Asier Polo
BEGIN:VTIMEZONE
TZID:Europe/Madrid
BEGIN:DAYLIGHT
TZOFFSETFROM:+0100
TZOFFSETTO:+0200
TZNAME:CEST
DTSTART:20190331T010000
END:DAYLIGHT
BEGIN:STANDARD
TZOFFSETFROM:+0200
TZOFFSETTO:+0100
TZNAME:CET
DTSTART:20191027T010000
END:STANDARD
END:VTIMEZONE
BEGIN:VEVENT
DTSTART;TZID=Europe/Madrid:20190511T200000
DTEND;TZID=Europe/Madrid:20190511T200000
DTSTAMP:20260420T060457
CREATED:20181015T095443Z
LAST-MODIFIED:20181015T100314Z
UID:2538-1557604800-1557604800@www.asierpolo.com
SUMMARY:Buffalo Philharmonic Orchestra
DESCRIPTION:Joaquín Rodrigo: Concierto in modo galante\, for violoncello and orchestra \n  \nAsier Polo\, violoncello \nJoAnn Falletta\, conductor \nBuffalo Philharmonic Orchestra \nMore info and tickets
URL:https://www.asierpolo.com/en/evento/buffalo-philharmonic-orchestra/
LOCATION:Kleinhans Music Hall\, 3 Symphony Cir\, Buffalo\, NY\, 14201\, Estados Unidos
ATTACH;FMTTYPE=image/jpeg:https://www.asierpolo.com/wp-content/uploads/2018/10/Buffalo-Philharmonic-at-Kleinhans-Hall-624x364.jpg
END:VEVENT
END:VCALENDAR