BEGIN:VCALENDAR
VERSION:2.0
PRODID:-//Asier Polo - ECPv5.8.1//NONSGML v1.0//EN
CALSCALE:GREGORIAN
METHOD:PUBLISH
X-WR-CALNAME:Asier Polo
X-ORIGINAL-URL:https://www.asierpolo.com/en/
X-WR-CALDESC:Events for Asier Polo
BEGIN:VTIMEZONE
TZID:Europe/Madrid
BEGIN:DAYLIGHT
TZOFFSETFROM:+0100
TZOFFSETTO:+0200
TZNAME:CEST
DTSTART:20190331T010000
END:DAYLIGHT
BEGIN:STANDARD
TZOFFSETFROM:+0200
TZOFFSETTO:+0100
TZNAME:CET
DTSTART:20191027T010000
END:STANDARD
END:VTIMEZONE
BEGIN:VEVENT
DTSTART;TZID=Europe/Madrid:20190512T143000
DTEND;TZID=Europe/Madrid:20190512T143000
DTSTAMP:20260420T042457
CREATED:20181015T100104Z
LAST-MODIFIED:20181015T100619Z
UID:2540-1557671400-1557671400@www.asierpolo.com
SUMMARY:Buffalo Philharmonic Orchestra
DESCRIPTION:Joaquín Rodrigo: Concierto in modo galante\, for violoncello and orchestra \n  \nAsier Polo\, violoncello \nJoAnn Falletta\, conductor \nBuffalo Philharmonic Orchestra \nMore info and tickets
URL:https://www.asierpolo.com/en/evento/buffalo-philharmonic-orchestra-2/
LOCATION:Kleinhans Music Hall\, 3 Symphony Cir\, Buffalo\, NY\, 14201\, Estados Unidos
ATTACH;FMTTYPE=image/jpeg:https://www.asierpolo.com/wp-content/uploads/2018/10/16_017_004.jpg
END:VEVENT
END:VCALENDAR