BEGIN:VCALENDAR
VERSION:2.0
PRODID:-//Asier Polo - ECPv5.8.1//NONSGML v1.0//EN
CALSCALE:GREGORIAN
METHOD:PUBLISH
X-WR-CALNAME:Asier Polo
X-ORIGINAL-URL:https://www.asierpolo.com/en/
X-WR-CALDESC:Events for Asier Polo
BEGIN:VTIMEZONE
TZID:Europe/Madrid
BEGIN:DAYLIGHT
TZOFFSETFROM:+0100
TZOFFSETTO:+0200
TZNAME:CEST
DTSTART:20260329T010000
END:DAYLIGHT
BEGIN:STANDARD
TZOFFSETFROM:+0200
TZOFFSETTO:+0100
TZNAME:CET
DTSTART:20261025T010000
END:STANDARD
END:VTIMEZONE
BEGIN:VEVENT
DTSTART;TZID=Europe/Madrid:20260126T193000
DTEND;TZID=Europe/Madrid:20260126T193000
DTSTAMP:20260420T113807
CREATED:20250314T014626Z
LAST-MODIFIED:20250314T014626Z
UID:4240-1769455800-1769455800@www.asierpolo.com
SUMMARY:BOS Chamber Orchestra
DESCRIPTION:J.C. Arriaga: Overture \nL. Boccherini: Cello Concerto in D major No.2  \nE. Granados: Intermezzo from “Goyescas” \nM. Falla: Suite populaie \nJ. Turina: La oración del torero \n  \nAsier Polo\, cello \nGiulia Brinckmeier\, concertino and conductor \nBOS Chamber Orchestra
URL:https://www.asierpolo.com/en/evento/bos-chamber-orchestra/
LOCATION:Sociedad Filarmonica de Bilbao\, Portuko Markesaren Kalea\, 2\, Bilbao\, 48009\, España
ATTACH;FMTTYPE=image/jpeg:https://www.asierpolo.com/wp-content/uploads/2023/05/1-ASIER-POLO115-copia-scaled.jpg
END:VEVENT
END:VCALENDAR