BEGIN:VCALENDAR
VERSION:2.0
PRODID:-//Asier Polo - ECPv5.8.1//NONSGML v1.0//EN
CALSCALE:GREGORIAN
METHOD:PUBLISH
X-WR-CALNAME:Asier Polo
X-ORIGINAL-URL:https://www.asierpolo.com/en/
X-WR-CALDESC:Events for Asier Polo
BEGIN:VTIMEZONE
TZID:Europe/Madrid
BEGIN:DAYLIGHT
TZOFFSETFROM:+0100
TZOFFSETTO:+0200
TZNAME:CEST
DTSTART:20250330T010000
END:DAYLIGHT
BEGIN:STANDARD
TZOFFSETFROM:+0200
TZOFFSETTO:+0100
TZNAME:CET
DTSTART:20251026T010000
END:STANDARD
END:VTIMEZONE
BEGIN:VEVENT
DTSTART;TZID=Europe/Madrid:20250111T130000
DTEND;TZID=Europe/Madrid:20250111T170000
DTSTAMP:20260420T150838
CREATED:20250313T203916Z
LAST-MODIFIED:20250313T203916Z
UID:4192-1736600400-1736614800@www.asierpolo.com
SUMMARY:Aromak
DESCRIPTION:“Aromak. Chillidaren urteurrenean” \n\n\n  \n\n\nAsier Polo\, violoncello \n\n\nMarta Zabaleta\, piano \n\n\nEdurne Zabalo\, clarinet \n\n\nGorka Hermosa\, accordion \n\n\nBlanchard Strings \n\n\nXegun Altolagirre\, narrator \n\n\n  \n\n\nMore info & tickets
URL:https://www.asierpolo.com/en/evento/aromak/
LOCATION:Latxartegi Aretoa\, Latxartegi Kalea\, 9\, Legazpia\, Gipuzkoa\, 20230\, España
ATTACH;FMTTYPE=image/jpeg:https://www.asierpolo.com/wp-content/uploads/2025/01/IMG_3358.jpg
END:VEVENT
END:VCALENDAR