BEGIN:VCALENDAR
VERSION:2.0
PRODID:-//Asier Polo - ECPv5.8.1//NONSGML v1.0//EN
CALSCALE:GREGORIAN
METHOD:PUBLISH
X-WR-CALNAME:Asier Polo
X-ORIGINAL-URL:https://www.asierpolo.com/en/
X-WR-CALDESC:Events for Asier Polo
BEGIN:VTIMEZONE
TZID:Europe/Madrid
BEGIN:DAYLIGHT
TZOFFSETFROM:+0100
TZOFFSETTO:+0200
TZNAME:CEST
DTSTART:20260329T010000
END:DAYLIGHT
BEGIN:STANDARD
TZOFFSETFROM:+0200
TZOFFSETTO:+0100
TZNAME:CET
DTSTART:20261025T010000
END:STANDARD
END:VTIMEZONE
BEGIN:VEVENT
DTSTART;TZID=Europe/Madrid:20260531T000000
DTEND;TZID=Europe/Madrid:20260531T000000
DTSTAMP:20260423T130353
CREATED:20260127T171616Z
LAST-MODIFIED:20260127T171826Z
UID:4303-1780185600-1780185600@www.asierpolo.com
SUMMARY:Gorgier Music Festival
DESCRIPTION:F. Schubert: String Quintet in C Major\, D.956 \n  \nQuartetto Lino Liviabella & Asier Polo
URL:https://www.asierpolo.com/en/evento/gorgier-music-festival/
LOCATION:Chateau de Gorgier\, Rue du Château\, 27\, Gorgier\, Suiza
ATTACH;FMTTYPE=image/jpeg:https://www.asierpolo.com/wp-content/uploads/2026/01/IMG_6192.jpg
END:VEVENT
BEGIN:VEVENT
DTSTART;TZID=Europe/Madrid:20260604T200000
DTEND;TZID=Europe/Madrid:20260604T200000
DTSTAMP:20260423T130353
CREATED:20250306T123752Z
LAST-MODIFIED:20260203T004634Z
UID:4315-1780603200-1780603200@www.asierpolo.com
SUMMARY:Orquesta Filarmónica de Málaga
DESCRIPTION:Season 25-26 \n  \nJ. Rodrigo: Concierto en modo galante \n  \nAsier Polo\, cello \nJuanjo Mena\, conductor \nOrquesta Filarmónica de Málaga \n  \nMore info & tickets
URL:https://www.asierpolo.com/en/evento/orquesta-filarmonica-de-malaga-5-2/
LOCATION:Teatro Cervantes\, Calle Ramos Marín\, 1\, Málaga\, 29012\, España
ATTACH;FMTTYPE=image/png:https://www.asierpolo.com/wp-content/uploads/2025/03/ofm.png
END:VEVENT
BEGIN:VEVENT
DTSTART;TZID=Europe/Madrid:20260605T200000
DTEND;TZID=Europe/Madrid:20260605T200000
DTSTAMP:20260423T130353
CREATED:20250306T123929Z
LAST-MODIFIED:20260203T004349Z
UID:4311-1780689600-1780689600@www.asierpolo.com
SUMMARY:Orquesta Filarmónica de Málaga
DESCRIPTION:Season 25-26 \n  \nJ. Rodrigo: Concierto en modo galante \n  \nAsier Polo\, cello \nJuanjo Mena\, conductor \nOrquesta Filarmónica de Málaga \n  \nMore info & tickets
URL:https://www.asierpolo.com/en/evento/orquesta-filarmonica-de-malaga-6/
LOCATION:Teatro Cervantes\, Calle Ramos Marín\, 1\, Málaga\, 29012\, España
ATTACH;FMTTYPE=image/png:https://www.asierpolo.com/wp-content/uploads/2025/03/ofm.png
END:VEVENT
BEGIN:VEVENT
DTSTART;VALUE=DATE:20260719
DTEND;VALUE=DATE:20260801
DTSTAMP:20260423T130353
CREATED:20260203T005622Z
LAST-MODIFIED:20260203T010514Z
UID:4319-1784419200-1785542399@www.asierpolo.com
SUMMARY:Masterclasses. Ticino Musica Festival
DESCRIPTION:Ticino Musica Festival \nMasterclasses & Concerts \n  \nMore info & registration \n 
URL:https://www.asierpolo.com/en/evento/clases-magistrales-ticino-musica-festival-4/
LOCATION:Ticino Musica Festival\, c/o CSI\, Via Soldino 9\, Lugano\, Suiza
ATTACH;FMTTYPE=image/jpeg:https://www.asierpolo.com/wp-content/uploads/2025/02/IMG_3690.jpg
END:VEVENT
BEGIN:VEVENT
DTSTART;VALUE=DATE:20260803
DTEND;VALUE=DATE:20260809
DTSTAMP:20260423T130353
CREATED:20260203T012618Z
LAST-MODIFIED:20260203T012748Z
UID:4326-1785715200-1786233599@www.asierpolo.com
SUMMARY:Masterclasses. Tibor Varga Summer Academy
DESCRIPTION:Tibor Varga Summer Academy \nMasterclasses & Concerts \n  \n  \nMore info & registration
URL:https://www.asierpolo.com/en/evento/clases-magistrales-tibor-varga-summer-academy-2/
LOCATION:Academy Of Music Tibor Varga\, Place Ambuel 7\, Sion\, 1950\, Suiza
ATTACH;FMTTYPE=image/jpeg:https://www.asierpolo.com/wp-content/uploads/2026/02/Summer-Academy.jpg
END:VEVENT
BEGIN:VEVENT
DTSTART;TZID=Europe/Madrid:20260910T000000
DTEND;TZID=Europe/Madrid:20260910T000000
DTSTAMP:20260423T130353
CREATED:20260203T015208Z
LAST-MODIFIED:20260203T015318Z
UID:4332-1788998400-1788998400@www.asierpolo.com
SUMMARY:Festival de Música Antonio de Cabezón
DESCRIPTION:Recital. Festival de Música Antonio de Cabezón \nJ. Brahms: Cello sonatas \n  \nAsier Polo\, cello \nEldar Nebolsin\, piano \n  \n  \n  \n 
URL:https://www.asierpolo.com/en/evento/festival-de-musica-antonio-de-cabezon-2/
LOCATION:Capilla de Música del Convento de las Bernardas\, Sala Salvador Vega\, Plaza San Juan s/n\, Burgos\, 09003\, España
ATTACH;FMTTYPE=image/jpeg:https://www.asierpolo.com/wp-content/uploads/2023/05/asierpolo-eldarnebolsin.jpg
END:VEVENT
END:VCALENDAR